BEGIN:VCALENDAR
VERSION:2.0
PRODID:-//Alpha Beta Phi Omega - ECPv6.15.20//NONSGML v1.0//EN
CALSCALE:GREGORIAN
METHOD:PUBLISH
X-ORIGINAL-URL:https://abphio.com
X-WR-CALDESC:Events for Alpha Beta Phi Omega
REFRESH-INTERVAL;VALUE=DURATION:PT1H
X-Robots-Tag:noindex
X-PUBLISHED-TTL:PT1H
BEGIN:VTIMEZONE
TZID:America/Chicago
BEGIN:DAYLIGHT
TZOFFSETFROM:-0600
TZOFFSETTO:-0500
TZNAME:CDT
DTSTART:20250309T080000
END:DAYLIGHT
BEGIN:STANDARD
TZOFFSETFROM:-0500
TZOFFSETTO:-0600
TZNAME:CST
DTSTART:20251102T070000
END:STANDARD
BEGIN:DAYLIGHT
TZOFFSETFROM:-0600
TZOFFSETTO:-0500
TZNAME:CDT
DTSTART:20260308T080000
END:DAYLIGHT
BEGIN:STANDARD
TZOFFSETFROM:-0500
TZOFFSETTO:-0600
TZNAME:CST
DTSTART:20261101T070000
END:STANDARD
BEGIN:DAYLIGHT
TZOFFSETFROM:-0600
TZOFFSETTO:-0500
TZNAME:CDT
DTSTART:20270314T080000
END:DAYLIGHT
BEGIN:STANDARD
TZOFFSETFROM:-0500
TZOFFSETTO:-0600
TZNAME:CST
DTSTART:20271107T070000
END:STANDARD
END:VTIMEZONE
BEGIN:VEVENT
DTSTART;TZID=America/Chicago:20260418T090000
DTEND;TZID=America/Chicago:20260418T120000
DTSTAMP:20260422T145720
CREATED:20260411T025109Z
LAST-MODIFIED:20260411T032703Z
UID:14383-1776502800-1776513600@abphio.com
SUMMARY:FREE Community Shred Day
DESCRIPTION:🗂️♻️ FREE Community Shred Day is here! \nHosted by Tarrant County Commissioner Precinct 2\, Alisa Simmons\, in partnership with Alpha Kappa Alpha Sorority\, Incorporated® Alpha Beta Phi Omega Chapter\, this event offers a safe and eco-friendly way to dispose of your sensitive documents. \n📅 Saturday\, April 18\, 2026\n⏰ 9:00 AM – 12:00 PM\n📍 Tarrant County Sub-Courthouse\n1100 E. Broad St.\, Mansfield\, TX 76063 \n✨ What you can bring:\n• Canceled checks\n• Medical records\n• Credit card offers\n• Past utility bills\n• Old tax returns\n• Junk mail \n🚫 Please note:\nNo electronics accepted\nMinimum of 2 boxes required \nLet’s protect your identity and the environment at the same time! 🌎💚
URL:https://abphio.com/event/free-community-shred-day/
LOCATION:Tarrant County Sub-Courthouse\, 1100 E. Broad St.\, Mansfield\, TX\, 76063\, United States
CATEGORIES:Environment
ATTACH;FMTTYPE=image/png:https://abphio.com/wp-content/uploads/2026/04/2026-ShredDayEvent.png
END:VEVENT
END:VCALENDAR