BEGIN:VCALENDAR
VERSION:2.0
PRODID:-//Alpha Beta Phi Omega - ECPv6.15.20//NONSGML v1.0//EN
CALSCALE:GREGORIAN
METHOD:PUBLISH
X-ORIGINAL-URL:https://abphio.com
X-WR-CALDESC:Events for Alpha Beta Phi Omega
REFRESH-INTERVAL;VALUE=DURATION:PT1H
X-Robots-Tag:noindex
X-PUBLISHED-TTL:PT1H
BEGIN:VTIMEZONE
TZID:UTC
BEGIN:STANDARD
TZOFFSETFROM:+0000
TZOFFSETTO:+0000
TZNAME:UTC
DTSTART:20240101T000000
END:STANDARD
END:VTIMEZONE
BEGIN:VEVENT
DTSTART;TZID=UTC:20250120T093000
DTEND;TZID=UTC:20250120T140000
DTSTAMP:20260423T113232
CREATED:20250110T171753Z
LAST-MODIFIED:20250110T233808Z
UID:11470-1737365400-1737381600@abphio.com
SUMMARY:We Are One AKA Service Day
DESCRIPTION:Join members of Alpha Beta Phi Omega along with members of the community will volunteer at Manna House in Midlothian\, TX organizing the food pantry and the warehouse. We will also volunteer with Many Helping Hands at Bear Creek Church in Irving\, TX organizing the food pantry and clothing closet. Members will come together after volunteering to enjoy a meal and socialize with each other in efforts to strengthen sisterly bonds. Click on the links below to register: Bear Creek Church/Many Helping Hands link: Many Helping Hands Manna House link: Manna House
URL:https://abphio.com/event/2025-we-are-one-aka-service-day/
CATEGORIES:We Are One AKA Service Day
ATTACH;FMTTYPE=image/png:https://abphio.com/wp-content/uploads/2025/01/We-Are-One-AKA-Service-Day.png
END:VEVENT
END:VCALENDAR