BEGIN:VCALENDAR
VERSION:2.0
PRODID:-//Alpha Beta Phi Omega - ECPv6.15.20//NONSGML v1.0//EN
CALSCALE:GREGORIAN
METHOD:PUBLISH
X-WR-CALNAME:Alpha Beta Phi Omega
X-ORIGINAL-URL:https://abphio.com
X-WR-CALDESC:Events for Alpha Beta Phi Omega
REFRESH-INTERVAL;VALUE=DURATION:PT1H
X-Robots-Tag:noindex
X-PUBLISHED-TTL:PT1H
BEGIN:VTIMEZONE
TZID:America/Chicago
BEGIN:DAYLIGHT
TZOFFSETFROM:-0600
TZOFFSETTO:-0500
TZNAME:CDT
DTSTART:20250309T080000
END:DAYLIGHT
BEGIN:STANDARD
TZOFFSETFROM:-0500
TZOFFSETTO:-0600
TZNAME:CST
DTSTART:20251102T070000
END:STANDARD
BEGIN:DAYLIGHT
TZOFFSETFROM:-0600
TZOFFSETTO:-0500
TZNAME:CDT
DTSTART:20260308T080000
END:DAYLIGHT
BEGIN:STANDARD
TZOFFSETFROM:-0500
TZOFFSETTO:-0600
TZNAME:CST
DTSTART:20261101T070000
END:STANDARD
BEGIN:DAYLIGHT
TZOFFSETFROM:-0600
TZOFFSETTO:-0500
TZNAME:CDT
DTSTART:20270314T080000
END:DAYLIGHT
BEGIN:STANDARD
TZOFFSETFROM:-0500
TZOFFSETTO:-0600
TZNAME:CST
DTSTART:20271107T070000
END:STANDARD
END:VTIMEZONE
BEGIN:VEVENT
DTSTART;TZID=America/Chicago:20260119T090000
DTEND;TZID=America/Chicago:20260119T140000
DTSTAMP:20260422T184317
CREATED:20260109T002816Z
LAST-MODIFIED:20260109T003639Z
UID:13100-1768813200-1768831200@abphio.com
SUMMARY:We Are One AKA 2026
DESCRIPTION:Join members of Alpha Beta Phi Omega along with members of the community will volunteer at Manna House in Midlothian\, TX organizing the food pantry and the warehouse. We will also volunteer with Many Helping Hands at Bear Creek Church in Irving\, TX organizing the food pantry and clothing closet. Members will come together after volunteering to enjoy a meal and socialize with each other in efforts to strengthen sisterly bonds. Click on the links below to register: Bear Creek Church/Many Helping Hands link: Many Helping Hands Manna House link: Manna House
URL:https://abphio.com/event/weareoneaka2026/
CATEGORIES:We Are One AKA Service Day
ATTACH;FMTTYPE=image/jpeg:https://abphio.com/wp-content/uploads/2026/01/Flyer-We-Are-One-AKA-Day-of-Service-01-19-26.jpg
END:VEVENT
END:VCALENDAR