BEGIN:VCALENDAR
VERSION:2.0
PRODID:-//Alpha Beta Phi Omega - ECPv6.15.20//NONSGML v1.0//EN
CALSCALE:GREGORIAN
METHOD:PUBLISH
X-WR-CALNAME:Alpha Beta Phi Omega
X-ORIGINAL-URL:https://abphio.com
X-WR-CALDESC:Events for Alpha Beta Phi Omega
REFRESH-INTERVAL;VALUE=DURATION:PT1H
X-Robots-Tag:noindex
X-PUBLISHED-TTL:PT1H
BEGIN:VTIMEZONE
TZID:America/Chicago
BEGIN:DAYLIGHT
TZOFFSETFROM:-0600
TZOFFSETTO:-0500
TZNAME:CDT
DTSTART:20240310T080000
END:DAYLIGHT
BEGIN:STANDARD
TZOFFSETFROM:-0500
TZOFFSETTO:-0600
TZNAME:CST
DTSTART:20241103T070000
END:STANDARD
BEGIN:DAYLIGHT
TZOFFSETFROM:-0600
TZOFFSETTO:-0500
TZNAME:CDT
DTSTART:20250309T080000
END:DAYLIGHT
BEGIN:STANDARD
TZOFFSETFROM:-0500
TZOFFSETTO:-0600
TZNAME:CST
DTSTART:20251102T070000
END:STANDARD
BEGIN:DAYLIGHT
TZOFFSETFROM:-0600
TZOFFSETTO:-0500
TZNAME:CDT
DTSTART:20260308T080000
END:DAYLIGHT
BEGIN:STANDARD
TZOFFSETFROM:-0500
TZOFFSETTO:-0600
TZNAME:CST
DTSTART:20261101T070000
END:STANDARD
END:VTIMEZONE
BEGIN:VTIMEZONE
TZID:UTC
BEGIN:STANDARD
TZOFFSETFROM:+0000
TZOFFSETTO:+0000
TZNAME:UTC
DTSTART:20230101T000000
END:STANDARD
END:VTIMEZONE
BEGIN:VEVENT
DTSTART;TZID=America/Chicago:20251101T120000
DTEND;TZID=America/Chicago:20251101T150000
DTSTAMP:20260422T171323
CREATED:20250930T155704Z
LAST-MODIFIED:20250930T161957Z
UID:12737-1761998400-1762009200@abphio.com
SUMMARY:Shred Away with AKA
DESCRIPTION:Shred Away with AKA!\nGot old papers piling up? Protect your privacy + declutter for FREE at our Shred Day! \nGrand Prairie YMCA\n4556 S Carrier Pkwy\, Grand Prairie\, TX\nNov 1\, 2025 | 12–3pm \nBring your documents\, watch them shredded on-site\, and join us in keeping our community safe + green. \nSpread the word & let’s shred together!
URL:https://abphio.com/event/shred-away-with-aka/
LOCATION:Grand Prairie Family YMCA\, 4556 S Carrier Pkwy.\, Grand Prairie\, TX\, 75052\, United States
CATEGORIES:Environment
ATTACH;FMTTYPE=image/png:https://abphio.com/wp-content/uploads/2025/09/Flyere-AKA-Shred-Day-Dematria-Holbrook.png
END:VEVENT
BEGIN:VEVENT
DTSTART;TZID=America/Chicago:20251018T120000
DTEND;TZID=America/Chicago:20251018T140000
DTSTAMP:20260422T171323
CREATED:20250930T234556Z
LAST-MODIFIED:20251001T001009Z
UID:12743-1760788800-1760796000@abphio.com
SUMMARY:Credit Management
DESCRIPTION:Ready to bring some green into your home and flavor into your meals?  \nJoin us for a hands-on workshop where you’ll learn how to grow your own herbs indoors no backyard needed! \nFrom basil and mint to thyme and rosemary\, discover the best herbs to grow\, how to care for them\, and creative ways to use them in your everyday cooking. \nWhat to Expect: \n\nTips on choosing the right containers and lighting.\nHow to water\, prune\, and harvest your herbs\nFun DIY herb starter kits (while supplies last!)\n\nWhether you’re a plant parent pro or just getting started\, this event is for you! \nLet’s grow something great together! \nFREE & open to the community All ages welcome. \nREGISTER NOW! \nLimited to 30.
URL:https://abphio.com/event/credit-management/
LOCATION:Grand Prairie Family YMCA\, 4556 S Carrier Pkwy.\, Grand Prairie\, TX\, 75052\, United States
ATTACH;FMTTYPE=image/png:https://abphio.com/wp-content/uploads/2025/09/Flyer-Credit-Management-and-Goal-Setting-Flyer.png
END:VEVENT
BEGIN:VEVENT
DTSTART;TZID=America/Chicago:20250927T130000
DTEND;TZID=America/Chicago:20250927T160000
DTSTAMP:20260422T171323
CREATED:20250823T020906Z
LAST-MODIFIED:20250823T142845Z
UID:12602-1758978000-1758988800@abphio.com
SUMMARY:Growing Herbs Indoors Workshop
DESCRIPTION:Ready to bring some green into your home and flavor into your meals?  \nJoin us for a hands-on workshop where you’ll learn how to grow your own herbs indoors no backyard needed! \nFrom basil and mint to thyme and rosemary\, discover the best herbs to grow\, how to care for them\, and creative ways to use them in your everyday cooking. \nWhat to Expect: \n\nTips on choosing the right containers and lighting.\nHow to water\, prune\, and harvest your herbs\nFun DIY herb starter kits (while supplies last!)\n\nWhether you’re a plant parent pro or just getting started\, this event is for you! \nLet’s grow something great together! \nFREE & open to the community All ages welcome. \nREGISTER NOW! \nLimited to 30.
URL:https://abphio.com/event/growing-herbs-indoors-workshop/
LOCATION:Grand Prairie Family YMCA\, 4556 S Carrier Pkwy.\, Grand Prairie\, TX\, 75052\, United States
CATEGORIES:Environment
ATTACH;FMTTYPE=image/png:https://abphio.com/wp-content/uploads/2025/08/Gardening-Workshop-09.27-flyer-2025.png
END:VEVENT
BEGIN:VEVENT
DTSTART;TZID=America/Chicago:20250920T140000
DTEND;TZID=America/Chicago:20250920T160000
DTSTAMP:20260422T171323
CREATED:20250824T135518Z
LAST-MODIFIED:20250824T140640Z
UID:12626-1758376800-1758384000@abphio.com
SUMMARY:A September to Re-Membership
DESCRIPTION:In recognition of Mental Health Awareness Month\, this event will focus on prioritizing mental wellness and self-care. \nWhat to Expect: \n\nA focus on mental wellness and self-care\nGuided stretching and breathing exercises\nSimple\, effective stress relief techniques\nA calm\, empowering atmosphere to leave you feeling refreshed and relaxed\n\nLet’s come together to support our mental health and embrace mindful moments.
URL:https://abphio.com/event/a-september-to-re-membership/
LOCATION:Grand Prairie Chamber of Commerce\, 900 Conover Drive\, Grand Prairie\, TX\, 75051\, United States
ATTACH;FMTTYPE=image/jpeg:https://abphio.com/wp-content/uploads/2025/08/reactivation.jpg
END:VEVENT
BEGIN:VEVENT
DTSTART;TZID=America/Chicago:20250920T093000
DTEND;TZID=America/Chicago:20250920T113000
DTSTAMP:20260422T171323
CREATED:20250910T143843Z
LAST-MODIFIED:20250910T145941Z
UID:12680-1758360600-1758367800@abphio.com
SUMMARY:Youth Leadership Institute Meet and Greet
DESCRIPTION:Do you have youth ages 11–13 in your family?\nLet’s get them involved in our FINAL year of YLI (Youth Leadership Institute)! \nWhen: Once a Month\nTime: 9:30 AM – 11:30 AM\nWhat: Fun\, hands-on leadership activities\nWho: Kids ages 11–13 (children\, nieces\, nephews\, grands\, friends — all are welcome!) \nHelp us build the next generation of leaders — starting with YOURS!\nDon’t miss this amazing opportunity to watch our youth grow\, shine\, and lead! \nPlease complete the permission form here: https://qr-codes.io/Z39hcZ
URL:https://abphio.com/event/youth-leadership-institute-meet-and-greet/
LOCATION:Mansfield Activities Center\, 106 S Wisteria St\, Mansfield\, TX\, 76063\, United States
CATEGORIES:Youth Leadership Institute
ATTACH;FMTTYPE=image/jpeg:https://abphio.com/wp-content/uploads/2025/09/464500C2-E6C1-486F-93DE-1594FDFE2625.jpeg
END:VEVENT
BEGIN:VEVENT
DTSTART;TZID=America/Chicago:20250621T110000
DTEND;TZID=America/Chicago:20250621T163000
DTSTAMP:20260422T171323
CREATED:20250319T223612Z
LAST-MODIFIED:20250509T031233Z
UID:12174-1750503600-1750523400@abphio.com
SUMMARY:Taste of Black Mansfield: Food Truck Edition
DESCRIPTION:Admission is FREE\, so there is no need to worry about tickets – arrive hungry\, a chair  and ready to indulge! \n\nStep aside\, foodies\, because Taste of Black Mansfield: Food Truck Edition is about to take the culinary scene by storm on June 21\, 2025!\nThis mouthwatering event is not only a feast for the senses but also an opportunity for food truck owners to showcase their edible masterpieces. So if you’ve got a food truck that’s ready to rock the taste buds.\n\nHosted by the fabulous ladies of Alpha Kappa Alpha Sorority\, Incorporated®\, Alpha Beta Phi Omega Chapter\, this gastronomic extravaganza is all about throwing some serious support towards the vibrant array of diverse-owned Food Trucks in Mansfield\, Texas.It’s time to make money moves by using our dollars to uplift and celebrate these culinary superheroes. Be prepared\, folks\, because this event is bound to leave your taste buds pleasantly surprised and your bellies oh-so-happy. Get ready to savor the flavors and join the foodie revolution!
URL:https://abphio.com/event/taste-of-black-mansfield-food-truck-edition/
LOCATION:Vernon Newsom Stadium\, 3700 E Broad St\, Mansfield\, TX\, 76063\, United States
ATTACH;FMTTYPE=image/jpeg:https://abphio.com/wp-content/uploads/2025/03/6b435933-15d3-ff1c-021c-4a2153f6b1f6.jpeg
END:VEVENT
BEGIN:VEVENT
DTSTART;TZID=America/Chicago:20250517T100000
DTEND;TZID=America/Chicago:20250517T120000
DTSTAMP:20260422T171323
CREATED:20250509T030150Z
LAST-MODIFIED:20250509T030841Z
UID:12421-1747476000-1747483200@abphio.com
SUMMARY:Pretty Mindful - A Mental Wellness Experience
DESCRIPTION:In recognition of Mental Health Awareness Month\, this event will focus on prioritizing mental wellness and self-care. \nWhat to Expect: \n\nA focus on mental wellness and self-care\nGuided stretching and breathing exercises\nSimple\, effective stress relief techniques\nA calm\, empowering atmosphere to leave you feeling refreshed and relaxed\n\nLet’s come together to support our mental health and embrace mindful moments.
URL:https://abphio.com/event/pretty-mindful/
LOCATION:Tony Shotwell Life Center\, 2750 Graham Street\, Grand Prairie\, Texas\, 75050\, United States
ATTACH;FMTTYPE=image/png:https://abphio.com/wp-content/uploads/2025/05/Mental-Wellness-Experience.png
END:VEVENT
BEGIN:VEVENT
DTSTART;TZID=UTC:20250125T093000
DTEND;TZID=UTC:20250125T113000
DTSTAMP:20260422T171323
CREATED:20250110T171225Z
LAST-MODIFIED:20250110T171654Z
UID:11467-1737797400-1737804600@abphio.com
SUMMARY:Youth Leadership Institute
DESCRIPTION:Are you ready to empower the next generation of leaders? \nYouth Leadership Institute (YLI)  is a youth-led\, interactive leadership development program designed to engage and inspire youth\, ages 11-13. Through fun and dynamic activities\, we aim to build confidence\, leadership skills\, and lifelong friendships. \nWe meet on the 4th Saturday of each month at 9:30 a.m. Don’t miss the chance to learn more about this incredible chapter program. \nCLICK HERE TO SUBMIT INTEREST FORM FOR MORE INFORMATION
URL:https://abphio.com/event/youth-leadership-institute-3/
LOCATION:TX
CATEGORIES:Youth Leadership Institute
ATTACH;FMTTYPE=image/png:https://abphio.com/wp-content/uploads/2025/01/YLI-2025-January.png
END:VEVENT
BEGIN:VEVENT
DTSTART;TZID=UTC:20250120T093000
DTEND;TZID=UTC:20250120T140000
DTSTAMP:20260422T171323
CREATED:20250110T171753Z
LAST-MODIFIED:20250110T233808Z
UID:11470-1737365400-1737381600@abphio.com
SUMMARY:We Are One AKA Service Day
DESCRIPTION:The Alpha Kappa Alpha Sorority\, Incorporated ®\, Alpha Beta Phi Omega Chapter is excited to invite you to our heartwarming “We Are One” AKA Service Day! On our annual MLK Day of Service\, we come together as a community to volunteer and make a positive impact side-by-side. In the spirit of Dr. Martin Luther King\, Jr.’s legacy\, we’d be thrilled if you joined us for a day filled with meaningful service activities. Everyone is welcome to be part of this special day\, so don’t hesitate to register using the links provided. Let’s spread kindness and unity together! \nVolunteer Opportunity #1 at Manna House. (10:00 am – 2:00 pm; 1-hour shifts) • Provide clothing and food item donations and assist in organizing the  warehouse.  Location: 3241 Robinson Rd\, Suite A\, Midlothian\, TX 76065  \nRSVP for Manna House: https://www.signupgenius.com/go/10C0B4FA8AF2FA3F4C07-53137775-weareone#/ \n  \nVolunteer Opportunity #2 at Bear Creek Community Church Homeless Ministry (9:30  am- 2:30 pm; 1-hour shifts):  Serve a meal\, organize the clothes closet\, and sort/organize the food  pantry.  Location: 2700 Finley Rd. B Irving\, TX 75062 \nRSVP for Bear Creek: https://www.signupgenius.com/go/10C0B4FA8AF2FA3F4C07-53753156-weareone#/ \n  \n 
URL:https://abphio.com/event/2025-we-are-one-aka-service-day/
LOCATION:TX
CATEGORIES:We Are One AKA Service Day
ATTACH;FMTTYPE=image/png:https://abphio.com/wp-content/uploads/2025/01/We-Are-One-AKA-Service-Day.png
END:VEVENT
BEGIN:VEVENT
DTSTART;TZID=UTC:20241221T093000
DTEND;TZID=UTC:20241221T113000
DTSTAMP:20260422T171323
CREATED:20241120T020845Z
LAST-MODIFIED:20241120T020845Z
UID:11171-1734773400-1734780600@abphio.com
SUMMARY:Youth Leadership Institute
DESCRIPTION:Are you ready to empower the next generation of leaders? \nYouth Leadership Institute (YLI)  is a youth-led\, interactive leadership development program designed to engage and inspire youth\, ages 11-13. Through fun and dynamic activities\, we aim to build confidence\, leadership skills\, and lifelong friendships. \nWe meet on the 3rd Saturday of each month at 9:30 a.m. Don’t miss the chance to learn more about this incredible chapter program. \nCLICK HERE TO SUBMIT INTEREST FORM FOR MORE INFORMATION
URL:https://abphio.com/event/youth-leadership-institute-2/
LOCATION:TX
CATEGORIES:Youth Leadership Institute
ATTACH;FMTTYPE=image/png:https://abphio.com/wp-content/uploads/2024/11/YLI-Module-December-21-2024.png
END:VEVENT
BEGIN:VEVENT
DTSTART;TZID=UTC:20241207T110000
DTEND;TZID=UTC:20241207T150000
DTSTAMP:20260422T171323
CREATED:20241101T193709Z
LAST-MODIFIED:20241101T193709Z
UID:10931-1733569200-1733583600@abphio.com
SUMMARY:Black Business Expo: Holiday Edition
DESCRIPTION:It’s time to flex our buying POWER and SUPPORT over 50 VENDORS!\n\nThe Alpha Kappa Alpha Sorority\, Incorporated®\, Alpha Beta Phi Omega Chapter\, the Grand Prairie Chamber of Commerce\, and the Grand Prairie Family YMCA proudly announce the Black Business Experience: Holiday Edition!\n\nDuring this holiday season\, we will showcase the power of the BLACK DOLLAR while supporting our black entrepreneurs through our Holiday Edition of our “Minding My Black Owned Business” Pop – Up Shop on December 7\, 2024\, located at the the Grand Prairie Family YMCA in Grand Prairie\, Texas.\nBring your kids to Santa’s Workshop and don’t forget to visit the food trucks!\n\nEntrepreneurs\, we haven’t forgotten about you. We’ll have a networking power hour at noon with Special Guest\, Brittney Adams. Brittney Adams\, Founder & CEO\, Focus & Frame Eyewear.\nThis is an event that you don’t want to miss!
URL:https://abphio.com/event/black-business-expo-holiday-edition/
LOCATION:Grand Prairie Family YMCA\, 4556 S Carrier Pkwy.\, Grand Prairie\, TX\, 75052\, United States
CATEGORIES:Black Business Expo
ATTACH;FMTTYPE=image/png:https://abphio.com/wp-content/uploads/2024/10/Capture-flyer.png
END:VEVENT
BEGIN:VEVENT
DTSTART;TZID=UTC:20241116T180000
DTEND;TZID=UTC:20241116T220000
DTSTAMP:20260422T171323
CREATED:20240828T101126Z
LAST-MODIFIED:20241115T231056Z
UID:10765-1731780000-1731794400@abphio.com
SUMMARY:The Black Excellence AKAdemy Awards
DESCRIPTION:The upcoming 2024 AKAdemy Awards will once again shine a spotlight on Black excellence\, reinforcing the significance of diversity\, representation\, and leadership within the African-American community. Let us come together to honor and support the African-Americans who have made significant strides in their respective fields\, leaving an indelible mark on history. \nThis glamorous event will bring together renowned personalities\, community leaders\, and supporters of the African-American community. It will be an evening filled with celebration\, recognition\, and inspiration as the winners step on stage to receive their well-deserved accolades. The awards ceremony will serve as a testament to the talent and achievements of African-Americans and reinforce the importance of Black excellence. \nCLICK HERE TO FOR THE 2024 AKADEMY AWARDS NOMINATION LIST  \nCLICK HERE TO PURCHASE TICKETS \n  \nTHANK YOU TO OUR SPONSORS! \n  \n \nPlatinum Sponsor of the AKAdemy Awards  \nwww.hrandco.com \nPlatinum Photography Sponsor of the AKAdemy Awards  \n  \nHoratio and Angie Porter\nBlack Carpet Sponsors \n  \nCarisma Ramsey Fields and Kennedy Fields\nBest of the Best Category Sponsors  \n  \nUplift Our Local Community Category Sponsor \n  \nDonna and Kellie Nikkol Williams\nAdvocate for Social Justice Category Sponsors  \n  \nCherry Elder\nEmpower Our Families Category Sponsor \n  \nRobert and Tamika Barkers\nBuild Our Economic Wealth Category Sponsors \n  \nAward Category Sponsors: \n\nKiffany Banks\, Lifetime Achievement Award\nAndrea Cook\, Best Attorney Award\nRochelle Heslip\, Best Realtor Award\nRae Palmer\, Educator of the Year Teacher Award\nLinda Tezeno\, Volunteer of the Year Award\nLesley and Wanda Varner\, Outstanding Youth Award\nTanya Johnson\, The Alisa Simmons Social Impact Award\nSharon Marshall\, Women Empowerment Award\nYolanda Sampson\, Influencer Award\nDawn James-Russell\, New Business Award\nGwendolyn Terry\, Best Kid Entrepreneur Award\nMarvin and Raquel Sutton\, Community Builder Award\nKiara Henry\, Outstanding Female Youth Athlete Award\nTamra Fortenberry Shaw\, Best Doctor Award\nMiriam Bennett \, Youth Advocate Award\nDr. Benita Reed\, Community Impact People’s Choice Award\nMayor Michael Evans\, Newsmaker of the Year Award \n\nDonors: \n\nTwasanna Lewis – Soaring to Greater Heights Level\nDaphne Smith – Soaring to Greater Heights Level\nPamela Harmon – Soaring to Greater Heights Level\nMelinda Pugh – Shining Star Level\nSherry Butler – Shining Star Level\nKatrina Mabry-Smith – Shining Star Level\n\n  \n 
URL:https://abphio.com/event/the-black-excellence-akademy-awards/
LOCATION:Willie Pigg Auditorium\, Mansfield Isd Police Department\, 1522 N Walnut Creek Dr\, Mansfield\, TX\, 76063\, United States
CATEGORIES:Awards
ATTACH;FMTTYPE=image/jpeg:https://abphio.com/wp-content/uploads/2024/08/411364273_669209658720392_2010974302721987555_n.jpg
END:VEVENT
BEGIN:VEVENT
DTSTART;TZID=UTC:20241116T120000
DTEND;TZID=UTC:20241116T133000
DTSTAMP:20260422T171323
CREATED:20241101T200626Z
LAST-MODIFIED:20241112T202004Z
UID:11064-1731758400-1731763800@abphio.com
SUMMARY:Build Your Wealth Financial Series: Session 4 – Youth Financial Literacy
DESCRIPTION:Build Your Wealth Financial Series: Session 4 – Youth Financial Literacy\nJoin us for an engaging and informative session focused on empowering students in grades 9-12 with essential financial skills. This session will cover key topics that will help youth manage their finances effectively as they transition into adulthood. \nWe look forward to helping your youth learn more about money management. \nCLICK HERE TO REGISTER   
URL:https://abphio.com/event/11064/
LOCATION:Mansfield Activities Center\, 106 S Wisteria St\, Mansfield\, TX\, 76063\, United States
CATEGORIES:Financial Forum
ATTACH;FMTTYPE=image/jpeg:https://abphio.com/wp-content/uploads/2024/11/465277805_9461738720508252_7642795433628921820_n.jpg
END:VEVENT
BEGIN:VEVENT
DTSTART;TZID=UTC:20241116T093000
DTEND;TZID=UTC:20241116T113000
DTSTAMP:20260422T171323
CREATED:20241114T013327Z
LAST-MODIFIED:20241119T045758Z
UID:11154-1731749400-1731756600@abphio.com
SUMMARY:Youth Leadership Institute
DESCRIPTION:Are you ready to empower the next generation of leaders? \nYouth Leadership Institute (YLI)  is a youth-led\, interactive leadership development program designed to engage and inspire youth\, ages 11-13. Through fun and dynamic activities\, we aim to build confidence\, leadership skills\, and lifelong friendships. \nWe meet on the 3rd Saturday of each month at 9:30 a.m. Don’t miss the chance to learn more about this incredible chapter program. \nCLICK HERE TO SUBMIT INTEREST FORM FOR MORE INFORMATION
URL:https://abphio.com/event/youth-leadership-institute/
LOCATION:Mansfield Activities Center\, 106 S Wisteria St\, Mansfield\, TX\, 76063\, United States
CATEGORIES:Youth Leadership Institute
ATTACH;FMTTYPE=image/png:https://abphio.com/download/11151/?tmstv=1776896003&v=11152
END:VEVENT
BEGIN:VEVENT
DTSTART;TZID=UTC:20241028T190000
DTEND;TZID=UTC:20241028T200000
DTSTAMP:20260422T171323
CREATED:20241015T003819Z
LAST-MODIFIED:20241015T005109Z
UID:10909-1730142000-1730145600@abphio.com
SUMMARY:Mental Health Forum: Addressing Burnout in Black Women
DESCRIPTION:High-achieving women\, we see you! \nYou’re crushing it in your career and loving every moment with family… but at what cost? \nAre you overwhelmed\, stressed\, emotionally drained\, exhausted? \nJoin the Alpha Beta Phi Omega chapter’s virtual mental health forum to break free from burnout! \nDr. Summer Rose Chaney\, PsyD shares expert tips on achieving work-life balance without losing yourself. \nCLICK HERE TO REGISTER TODAY 
URL:https://abphio.com/event/mental-health-forum-addressing-burnout-in-black-women/
LOCATION:TX
CATEGORIES:Virtual Forum
ATTACH;FMTTYPE=image/jpeg:https://abphio.com/download/10919/?tmstv=1776896003&v=10920
END:VEVENT
BEGIN:VEVENT
DTSTART;TZID=UTC:20241026T130000
DTEND;TZID=UTC:20241026T170000
DTSTAMP:20260422T171323
CREATED:20241022T002112Z
LAST-MODIFIED:20241022T002112Z
UID:10924-1729947600-1729962000@abphio.com
SUMMARY:Community Shredding and Electronics Recycling Day
DESCRIPTION:Residents of Grand Prairie! Mansfield! & Surrounding Communities! Get rid of all those papers creating clutter and with personal information! What a risk keeping that around or just throwing it in the trash. Or bring that old TV\, stereo or printer collecting dust and taking up space – recycle it safely and be eco-friendly to reduce household waste on Saturday\, October 26th\, 1:00 pm – 5:00 pm at Grand Prairie Family YMCA – 4556 S Carrier Pkwy\, Grand Prairie\, TX 75052. In partnership with the Grand Prairie Family YMCA. \n 
URL:https://abphio.com/event/community-shredding-and-electronics-recycling-day/
LOCATION:Grand Prairie Family YMCA\, 4556 S Carrier Pkwy.\, Grand Prairie\, TX\, 75052\, United States
ATTACH;FMTTYPE=image/jpeg:https://abphio.com/wp-content/uploads/2024/10/AKA-shred_RAE-02.jpg
END:VEVENT
BEGIN:VEVENT
DTSTART;TZID=UTC:20241003T190000
DTEND;TZID=UTC:20241003T200000
DTSTAMP:20260422T171323
CREATED:20240927T230933Z
LAST-MODIFIED:20240927T230933Z
UID:10861-1727982000-1727985600@abphio.com
SUMMARY:Build Your Wealth Financial Series: Session 3: Estate Planning
DESCRIPTION:Have you heard about how important it is to get your financial house in order? Well\, we’re back to help you do just that! This forum will provide the information you need to assist your loved ones and will teach you how to leave a legacy for them. We know this can be hard to talk about\, but it’s absolutely necessary! So mark your calendar for Thursday\, October 3 at 7:00 pm and get ready to prepare for your financial future! \nCLICK HERE TO REGISTER TODAY
URL:https://abphio.com/event/build-your-wealth-financial-series-session-3-estate-planning/
LOCATION:TX
ATTACH;FMTTYPE=image/jpeg:https://abphio.com/wp-content/uploads/2024/09/image0-1.jpeg
END:VEVENT
END:VCALENDAR