BEGIN:VCALENDAR
VERSION:2.0
PRODID:-//Alpha Beta Phi Omega - ECPv6.15.20//NONSGML v1.0//EN
CALSCALE:GREGORIAN
METHOD:PUBLISH
X-ORIGINAL-URL:https://abphio.com
X-WR-CALDESC:Events for Alpha Beta Phi Omega
REFRESH-INTERVAL;VALUE=DURATION:PT1H
X-Robots-Tag:noindex
X-PUBLISHED-TTL:PT1H
BEGIN:VTIMEZONE
TZID:America/Chicago
BEGIN:DAYLIGHT
TZOFFSETFROM:-0600
TZOFFSETTO:-0500
TZNAME:CDT
DTSTART:20250309T080000
END:DAYLIGHT
BEGIN:STANDARD
TZOFFSETFROM:-0500
TZOFFSETTO:-0600
TZNAME:CST
DTSTART:20251102T070000
END:STANDARD
BEGIN:DAYLIGHT
TZOFFSETFROM:-0600
TZOFFSETTO:-0500
TZNAME:CDT
DTSTART:20260308T080000
END:DAYLIGHT
BEGIN:STANDARD
TZOFFSETFROM:-0500
TZOFFSETTO:-0600
TZNAME:CST
DTSTART:20261101T070000
END:STANDARD
BEGIN:DAYLIGHT
TZOFFSETFROM:-0600
TZOFFSETTO:-0500
TZNAME:CDT
DTSTART:20270314T080000
END:DAYLIGHT
BEGIN:STANDARD
TZOFFSETFROM:-0500
TZOFFSETTO:-0600
TZNAME:CST
DTSTART:20271107T070000
END:STANDARD
END:VTIMEZONE
BEGIN:VEVENT
DTSTART;TZID=America/Chicago:20260620T110000
DTEND;TZID=America/Chicago:20260620T190000
DTSTAMP:20260423T060524
CREATED:20260220T045620Z
LAST-MODIFIED:20260417T202554Z
UID:13813-1781953200-1781982000@abphio.com
SUMMARY:Black Excellence AKAdemy Awards
DESCRIPTION:Ready to bring some green into your home and flavor into your meals?  Join us for a hands-on workshop where you’ll learn how to grow your own herbs indoors no backyard needed! From basil and mint to thyme and rosemary\, discover the best herbs to grow\, how to care for them\, and creative ways to use them in your everyday cooking. What to Expect: Tips on choosing the right containers and lighting.How to water\, prune\, and harvest your herbsFun DIY herb starter kits (while supplies last!)Whether you’re a plant parent pro or just getting started\, this event is for you! Let’s grow something great together! FREE & open to the community All ages welcome. REGISTER NOW! Limited to 30.
URL:https://abphio.com/event/black-excellence-akademy-awards/
LOCATION:Vernon Newsom Stadium\, 3700 E Broad St\, Mansfield\, TX\, 76063\, United States
ATTACH;FMTTYPE=image/jpeg:https://abphio.com/wp-content/uploads/2024/08/411364273_669209658720392_2010974302721987555_n.jpg
END:VEVENT
END:VCALENDAR