BEGIN:VCALENDAR
VERSION:2.0
PRODID:-//Alpha Beta Phi Omega - ECPv6.15.20//NONSGML v1.0//EN
CALSCALE:GREGORIAN
METHOD:PUBLISH
X-ORIGINAL-URL:https://abphio.com
X-WR-CALDESC:Events for Alpha Beta Phi Omega
REFRESH-INTERVAL;VALUE=DURATION:PT1H
X-Robots-Tag:noindex
X-PUBLISHED-TTL:PT1H
BEGIN:VTIMEZONE
TZID:UTC
BEGIN:STANDARD
TZOFFSETFROM:+0000
TZOFFSETTO:+0000
TZNAME:UTC
DTSTART:20230101T000000
END:STANDARD
END:VTIMEZONE
BEGIN:VEVENT
DTSTART;TZID=UTC:20241003T190000
DTEND;TZID=UTC:20241003T200000
DTSTAMP:20260423T162102
CREATED:20240927T230933Z
LAST-MODIFIED:20240927T230933Z
UID:10861-1727982000-1727985600@abphio.com
SUMMARY:Build Your Wealth Financial Series: Session 3: Estate Planning
DESCRIPTION:Have you heard about how important it is to get your financial house in order? Well\, we’re back to help you do just that! This forum will provide the information you need to assist your loved ones and will teach you how to leave a legacy for them. We know this can be hard to talk about\, but it’s absolutely necessary! So mark your calendar for Thursday\, October 3 at 7:00 pm and get ready to prepare for your financial future! \nCLICK HERE TO REGISTER TODAY
URL:https://abphio.com/event/build-your-wealth-financial-series-session-3-estate-planning/
LOCATION:TX
ATTACH;FMTTYPE=image/jpeg:https://abphio.com/wp-content/uploads/2024/09/image0-1.jpeg
END:VEVENT
BEGIN:VEVENT
DTSTART;TZID=UTC:20241026T130000
DTEND;TZID=UTC:20241026T170000
DTSTAMP:20260423T162102
CREATED:20241022T002112Z
LAST-MODIFIED:20241022T002112Z
UID:10924-1729947600-1729962000@abphio.com
SUMMARY:Community Shredding and Electronics Recycling Day
DESCRIPTION:Residents of Grand Prairie! Mansfield! & Surrounding Communities! Get rid of all those papers creating clutter and with personal information! What a risk keeping that around or just throwing it in the trash. Or bring that old TV\, stereo or printer collecting dust and taking up space – recycle it safely and be eco-friendly to reduce household waste on Saturday\, October 26th\, 1:00 pm – 5:00 pm at Grand Prairie Family YMCA – 4556 S Carrier Pkwy\, Grand Prairie\, TX 75052. In partnership with the Grand Prairie Family YMCA. \n 
URL:https://abphio.com/event/community-shredding-and-electronics-recycling-day/
LOCATION:Grand Prairie Family YMCA\, 4556 S Carrier Pkwy.\, Grand Prairie\, TX\, 75052\, United States
ATTACH;FMTTYPE=image/jpeg:https://abphio.com/wp-content/uploads/2024/10/AKA-shred_RAE-02.jpg
END:VEVENT
BEGIN:VEVENT
DTSTART;TZID=UTC:20241028T190000
DTEND;TZID=UTC:20241028T200000
DTSTAMP:20260423T162102
CREATED:20241015T003819Z
LAST-MODIFIED:20241015T005109Z
UID:10909-1730142000-1730145600@abphio.com
SUMMARY:Mental Health Forum: Addressing Burnout in Black Women
DESCRIPTION:High-achieving women\, we see you! \nYou’re crushing it in your career and loving every moment with family… but at what cost? \nAre you overwhelmed\, stressed\, emotionally drained\, exhausted? \nJoin the Alpha Beta Phi Omega chapter’s virtual mental health forum to break free from burnout! \nDr. Summer Rose Chaney\, PsyD shares expert tips on achieving work-life balance without losing yourself. \nCLICK HERE TO REGISTER TODAY 
URL:https://abphio.com/event/mental-health-forum-addressing-burnout-in-black-women/
LOCATION:TX
CATEGORIES:Virtual Forum
ATTACH;FMTTYPE=image/jpeg:https://abphio.com/download/10919/?tmstv=1776979262&v=10920
END:VEVENT
END:VCALENDAR