BEGIN:VCALENDAR
VERSION:2.0
PRODID:-//Alpha Beta Phi Omega - ECPv6.15.20//NONSGML v1.0//EN
CALSCALE:GREGORIAN
METHOD:PUBLISH
X-ORIGINAL-URL:https://abphio.com
X-WR-CALDESC:Events for Alpha Beta Phi Omega
REFRESH-INTERVAL;VALUE=DURATION:PT1H
X-Robots-Tag:noindex
X-PUBLISHED-TTL:PT1H
BEGIN:VTIMEZONE
TZID:America/Chicago
BEGIN:DAYLIGHT
TZOFFSETFROM:-0600
TZOFFSETTO:-0500
TZNAME:CDT
DTSTART:20250309T080000
END:DAYLIGHT
BEGIN:STANDARD
TZOFFSETFROM:-0500
TZOFFSETTO:-0600
TZNAME:CST
DTSTART:20251102T070000
END:STANDARD
BEGIN:DAYLIGHT
TZOFFSETFROM:-0600
TZOFFSETTO:-0500
TZNAME:CDT
DTSTART:20260308T080000
END:DAYLIGHT
BEGIN:STANDARD
TZOFFSETFROM:-0500
TZOFFSETTO:-0600
TZNAME:CST
DTSTART:20261101T070000
END:STANDARD
BEGIN:DAYLIGHT
TZOFFSETFROM:-0600
TZOFFSETTO:-0500
TZNAME:CDT
DTSTART:20270314T080000
END:DAYLIGHT
BEGIN:STANDARD
TZOFFSETFROM:-0500
TZOFFSETTO:-0600
TZNAME:CST
DTSTART:20271107T070000
END:STANDARD
END:VTIMEZONE
BEGIN:VEVENT
DTSTART;TZID=America/Chicago:20260401T080000
DTEND;TZID=America/Chicago:20260505T233000
DTSTAMP:20260422T110949
CREATED:20260410T204115Z
LAST-MODIFIED:20260410T204115Z
UID:14363-1775030400-1778023800@abphio.com
SUMMARY:Scholarship Alert! NPHC Tarrant County
DESCRIPTION:2026 NPHC- Tarrant County Scholarship Application\n\nThe National Pan-Hellenic Council of Tarrant County is happy to present the following scholarship award.  To earn this award\, applicants must meet the following criteria: \n\n\nCumulative GPA: 3.0\nGood Academic Standing\nMust attend a Tarrant County High School\nMust be a graduating senior (Spring 2026 [May or June])\nMust plan to attend a four-year university\nSubmit a written essay\nUpload all required documents\n\nTo apply: click the link below \nhttps://docs.google.com/forms/d/e/1FAIpQLSfQe8-Eo1WEKfobN7hyGPbD-RRyWfKe3CTW-r5WAzZhAVgUXA/viewform \nThe application deadline is May 5\, 2026 by 11:59 CST. Applications must be received by this date. Late applications will not be accepted.
URL:https://abphio.com/event/scholarship-alert-nphc-tarrant-county/
LOCATION:TX
CATEGORIES:Scholarships
ATTACH;FMTTYPE=image/jpeg:https://abphio.com/wp-content/uploads/2026/04/NPHC-Tarrant-County-Scholarship.jpeg
END:VEVENT
BEGIN:VEVENT
DTSTART;TZID=America/Chicago:20260401T080000
DTEND;TZID=America/Chicago:20260601T233000
DTSTAMP:20260422T110949
CREATED:20260410T200050Z
LAST-MODIFIED:20260411T023933Z
UID:14351-1775030400-1780356600@abphio.com
SUMMARY:Scholarship Alert! Tucker Family Foundation for the Arts (TFFA)
DESCRIPTION:The Alpha Beta Phi Omega Chapter of Alpha Kappa Alpha Sorority\, Incorporated® is proud to partner with the Tucker Family Foundation for the Arts (TFFA) to identify and support talented students in our service areas! \n💚 TFFA Arts Scholarship – $500 Award\n💚 Four Scholarships Available \nThis opportunity is open to:\n✔️ Graduating high school seniors\n✔️ Current college students\n✔️ Students pursuing a major or minor in creative\, visual\, or performing arts \n🗓 Application Deadline: June 1\, 2026 \n\n	Spring-2026-ABPhiO_TFFA-Scholarship-Form.pdf	(11 downloads	)\n\n\n  \n📩 For more information: abphioscholarship@gmail.com \nIf you or someone you know has a passion for the arts\, don’t miss this chance to receive support and recognition for your talent! \n 
URL:https://abphio.com/event/scholarship-alert-tucker-family-foundation-for-the-arts-tffa/
LOCATION:TX
CATEGORIES:Scholarships
ATTACH;FMTTYPE=image/png:https://abphio.com/wp-content/uploads/2026/04/TFFA-ARTS-SCHOLARSHIP-SPRING-2026.png
END:VEVENT
BEGIN:VEVENT
DTSTART;TZID=America/Chicago:20260516T100000
DTEND;TZID=America/Chicago:20260516T120000
DTSTAMP:20260422T110949
CREATED:20260411T032305Z
LAST-MODIFIED:20260411T032538Z
UID:14391-1778925600-1778932800@abphio.com
SUMMARY:Pretty Mindful: A Mental Health Wellness Experience
DESCRIPTION:Celebrate Mental Health Awareness Month at our Pretty Mindful: Total Wellness Experience event. \nThis lively event is all about boosting wellness for adults and youth ages 12 and up. \nEnjoy engaging activities\, fun giveaways\, and upbeat line dancing that will have you moving\, laughing\, and feeling great. \nCome for the inspiration\, stay for the good vibes. Register today!
URL:https://abphio.com/event/pretty-mindful-a-mental-health-wellness-experience/
LOCATION:Lively Pointe Youth Center\, 909 N. O'Connor Road\, Irving\, TX\, 75061\, United States
ATTACH;FMTTYPE=image/png:https://abphio.com/wp-content/uploads/2026/04/Pretty-Mindful-05.16.26.png
END:VEVENT
END:VCALENDAR